BEGIN:VCALENDAR
VERSION:2.0
PRODID:-//New Mexico Motorsports Report - ECPv6.3.1//NONSGML v1.0//EN
CALSCALE:GREGORIAN
METHOD:PUBLISH
X-WR-CALNAME:New Mexico Motorsports Report
X-ORIGINAL-URL:https://nmmotorsportsreport.com
X-WR-CALDESC:Events for New Mexico Motorsports Report
REFRESH-INTERVAL;VALUE=DURATION:PT1H
X-Robots-Tag:noindex
X-PUBLISHED-TTL:PT1H
BEGIN:VTIMEZONE
TZID:America/Denver
BEGIN:DAYLIGHT
TZOFFSETFROM:-0700
TZOFFSETTO:-0600
TZNAME:MDT
DTSTART:20180311T090000
END:DAYLIGHT
BEGIN:STANDARD
TZOFFSETFROM:-0600
TZOFFSETTO:-0700
TZNAME:MST
DTSTART:20181104T080000
END:STANDARD
TZID:UTC
BEGIN:STANDARD
TZOFFSETFROM:+0000
TZOFFSETTO:+0000
TZNAME:UTC
DTSTART:20160101T000000
END:STANDARD
END:VTIMEZONE
BEGIN:VEVENT
DTSTART;TZID=America/Denver:20181215T170000
DTEND;TZID=America/Denver:20181215T193000
DTSTAMP:20260420T222001
CREATED:20181205T190427Z
LAST-MODIFIED:20181205T190427Z
UID:2592-1544893200-1544902200@nmmotorsportsreport.com
SUMMARY:Balloon Museum Pod Racing 8 Tiny Whoop Race
DESCRIPTION:https://www.cabq.gov/culturalservices/balloonmuseum/events/balloon-museum-pod-race-8
URL:https://nmmotorsportsreport.com/event/balloon-museum-pod-racing-8-tiny-whoop-race/
LOCATION:Balloon Museum\, 9201 Balloon Museum Drive NE\, Albuquerque\, New Mexico\, 87113
ATTACH;FMTTYPE=:
ORGANIZER;CN="Paul Garver":MAILTO:pgarver@cabq.gov
END:VEVENT
BEGIN:VEVENT
DTSTART;TZID=America/Denver:20181208T103000
DTEND;TZID=America/Denver:20181208T170000
DTSTAMP:20260420T222001
CREATED:20181205T192350Z
LAST-MODIFIED:20181205T192350Z
UID:2596-1544265000-1544288400@nmmotorsportsreport.com
SUMMARY:Historically Speaking Christmas Event
DESCRIPTION:
URL:https://nmmotorsportsreport.com/event/historically-speaking-christmas-event/
LOCATION:Holiday Inn Express\, 1921 Yale SE\, Albuquerque\, New Mexico
ATTACH;FMTTYPE=:
ORGANIZER;CN="Sharron Mullins":MAILTO:internationalchrysalis@gmail.com
END:VEVENT
BEGIN:VEVENT
DTSTART;TZID=America/Denver:20181104T110000
DTEND;TZID=America/Denver:20181104T170000
DTSTAMP:20260420T222001
CREATED:20181102T180547Z
LAST-MODIFIED:20181102T180547Z
UID:2490-1541329200-1541350800@nmmotorsportsreport.com
SUMMARY:Yearwood Street to Strip
DESCRIPTION:
URL:https://nmmotorsportsreport.com/event/yearwood-street-to-strip-3/
LOCATION:Albuquerque Dragway\, Albuquerque\, NM\, 87105
ATTACH;FMTTYPE=:
ORGANIZER;CN="ABQ Dragway":MAILTO:abqdragway@comcast.net
END:VEVENT
BEGIN:VEVENT
DTSTART;TZID=America/Denver:20181103T110000
DTEND;TZID=America/Denver:20181103T160000
DTSTAMP:20260420T222001
CREATED:20181102T181453Z
LAST-MODIFIED:20181102T181531Z
UID:2498-1541242800-1541260800@nmmotorsportsreport.com
SUMMARY:VHS 1st Annual Varsity Cheer Boosters Fundraiser Car Show
DESCRIPTION:
URL:https://nmmotorsportsreport.com/event/vhs-1st-annual-varsity-cheer-boosters-fundraiser-car-show/
LOCATION:Valencia HS\, 230 Nelson Lane\, Los Lunas\, NM\, United States
ATTACH;FMTTYPE=:
END:VEVENT
BEGIN:VEVENT
DTSTART;TZID=America/Denver:20181103T090000
DTEND;TZID=America/Denver:20181103T150000
DTSTAMP:20260420T222001
CREATED:20181102T181219Z
LAST-MODIFIED:20181102T181219Z
UID:2495-1541235600-1541257200@nmmotorsportsreport.com
SUMMARY:Feed New Mexico Kids Car Show & Lunch
DESCRIPTION:
URL:https://nmmotorsportsreport.com/event/feed-new-mexico-kids-car-show-lunch/
LOCATION:Philip&Sons Hot Rod Service\, 4101 4th St. NW\, Albuquerque\, NM\, United States
ATTACH;FMTTYPE=:
END:VEVENT
BEGIN:VEVENT
DTSTART;TZID=America/Denver:20181103T073000
DTEND;TZID=America/Denver:20181103T103000
DTSTAMP:20260420T222001
CREATED:20181102T180921Z
LAST-MODIFIED:20181102T180921Z
UID:2492-1541230200-1541241000@nmmotorsportsreport.com
SUMMARY:The Owl Cafe Cars -N- Coffee
DESCRIPTION:
URL:https://nmmotorsportsreport.com/event/the-owl-cafe-cars-n-coffee/
LOCATION:The Owl Cafe\, 800 Eubank Blvd. NE\, Albuquerque\, NM\, United States
ATTACH;FMTTYPE=:
END:VEVENT
BEGIN:VEVENT
DTSTART;VALUE=DATE:20181103
DTEND;VALUE=DATE:20181105
DTSTAMP:20260420T222001
CREATED:20181102T180223Z
LAST-MODIFIED:20181102T180223Z
UID:2488-1541203200-1541375999@nmmotorsportsreport.com
SUMMARY:SARA Winter Series
DESCRIPTION:
URL:https://nmmotorsportsreport.com/event/sara-winter-series/
LOCATION:Sandia Speedway\, 100 Speedway Blvd SW\, Albuquerque\, 87121
ATTACH;FMTTYPE=:
ORGANIZER;CN="Sandia Speedway":MAILTO:info@racesandia.com
END:VEVENT
BEGIN:VEVENT
DTSTART;TZID=America/Denver:20181027T150000
DTEND;TZID=America/Denver:20181027T220000
DTSTAMP:20260420T222001
CREATED:20181009T173321Z
LAST-MODIFIED:20181009T173321Z
UID:2370-1540652400-1540677600@nmmotorsportsreport.com
SUMMARY:Lantern Fest
DESCRIPTION:
URL:https://nmmotorsportsreport.com/event/lantern-fest/
LOCATION:Sandia Speedway\, 100 Speedway Blvd SW\, Albuquerque\, 87121
ATTACH;FMTTYPE=:
END:VEVENT
BEGIN:VEVENT
DTSTART;TZID=America/Denver:20181027T110000
DTEND;TZID=America/Denver:20181027T170000
DTSTAMP:20260420T222001
CREATED:20181008T223755Z
LAST-MODIFIED:20181008T223755Z
UID:2353-1540638000-1540659600@nmmotorsportsreport.com
SUMMARY:Yearwood Street to Strip
DESCRIPTION:
URL:https://nmmotorsportsreport.com/event/yearwood-street-to-strip-2/
LOCATION:Albuquerque Dragway\, Albuquerque\, NM\, 87105
ATTACH;FMTTYPE=:
ORGANIZER;CN="ABQ Dragway":MAILTO:abqdragway@comcast.net
END:VEVENT
BEGIN:VEVENT
DTSTART;TZID=America/Denver:20181021T100000
DTEND;TZID=America/Denver:20181021T170000
DTSTAMP:20260420T222001
CREATED:20181009T170402Z
LAST-MODIFIED:20181009T170402Z
UID:2367-1540116000-1540141200@nmmotorsportsreport.com
SUMMARY:NMDA Flat Track Motorcycle Racing Day 2
DESCRIPTION:
URL:https://nmmotorsportsreport.com/event/nmda-flat-track-motorcycle-racing-day-2/
LOCATION:Sandia Speedway\, 100 Speedway Blvd SW\, Albuquerque\, 87121
ATTACH;FMTTYPE=image/jpeg:https://nmmotorsportsreport.com/wp-content/uploads/2018/10/nmdaoct18.jpg
ORGANIZER;CN="Sandia Speedway":MAILTO:info@racesandia.com
END:VEVENT
BEGIN:VEVENT
DTSTART;TZID=America/Denver:20181021T100000
DTEND;TZID=America/Denver:20181021T150000
DTSTAMP:20260420T222001
CREATED:20181013T143528Z
LAST-MODIFIED:20181013T143528Z
UID:2409-1540116000-1540134000@nmmotorsportsreport.com
SUMMARY:Moriarty MX Moto School Training Weekend
DESCRIPTION:
URL:https://nmmotorsportsreport.com/event/moriarty-mx-moto-school-training-weekend/
LOCATION:Sandia MX Moriarty\, 38 Martin Rd\, Moriarty\, New Mexico\, 87035
ATTACH;FMTTYPE=:
END:VEVENT
BEGIN:VEVENT
DTSTART;TZID=America/Denver:20181021T090000
DTEND;TZID=America/Denver:20181021T170000
DTSTAMP:20260420T222001
CREATED:20181008T223035Z
LAST-MODIFIED:20181009T174915Z
UID:2350-1540112400-1540141200@nmmotorsportsreport.com
SUMMARY:NHRA State Championship Race & AFX Super Stockers
DESCRIPTION:
URL:https://nmmotorsportsreport.com/event/nhra-state-championship-race-afx-super-stockers/
LOCATION:Albuquerque Dragway\, Albuquerque\, NM\, 87105
ATTACH;FMTTYPE=image/jpeg:https://nmmotorsportsreport.com/wp-content/uploads/2018/10/ABQ.jpg
ORGANIZER;CN="ABQ Dragway":MAILTO:abqdragway@comcast.net
END:VEVENT
BEGIN:VEVENT
DTSTART;TZID=America/Denver:20181020T150000
DTEND;TZID=America/Denver:20181020T220000
DTSTAMP:20260420T222001
CREATED:20181009T165937Z
LAST-MODIFIED:20181009T165937Z
UID:2364-1540047600-1540072800@nmmotorsportsreport.com
SUMMARY:NMDA Flat Track Motorcycle Racing Day 1
DESCRIPTION:
URL:https://nmmotorsportsreport.com/event/nmda-flat-track-motorcycle-racing-day-1/
LOCATION:Sandia Speedway\, 100 Speedway Blvd SW\, Albuquerque\, 87121
ATTACH;FMTTYPE=image/jpeg:https://nmmotorsportsreport.com/wp-content/uploads/2018/10/nmdaoct18.jpg
ORGANIZER;CN="Sandia Speedway":MAILTO:info@racesandia.com
END:VEVENT
BEGIN:VEVENT
DTSTART;TZID=America/Denver:20181020T100000
DTEND;TZID=America/Denver:20181020T170000
DTSTAMP:20260420T222001
CREATED:20181008T213213Z
LAST-MODIFIED:20181008T213213Z
UID:2324-1540029600-1540054800@nmmotorsportsreport.com
SUMMARY:Hot Rod Rumble
DESCRIPTION:http://www.abqdragway.com/schedule
URL:https://nmmotorsportsreport.com/event/hot-rod-rumble/
LOCATION:Albuquerque Dragway\, Albuquerque\, NM\, 87105
ATTACH;FMTTYPE=:
ORGANIZER;CN="ABQ Dragway":MAILTO:abqdragway@comcast.net
END:VEVENT
BEGIN:VEVENT
DTSTART;VALUE=DATE:20181017
DTEND;VALUE=DATE:20181018
DTSTAMP:20260420T222001
CREATED:20181008T220719Z
LAST-MODIFIED:20181008T221243Z
UID:2334-1539734400-1539820799@nmmotorsportsreport.com
SUMMARY:Lincoln & Continental Western National Meet "October in the High Desert: Atoms\, Balloons & Cars" Oct.17th-21st
DESCRIPTION:
URL:https://nmmotorsportsreport.com/event/lincoln-continental-western-national-meet-october-in-the-high-desert-atoms-balloons-cars/
LOCATION:Crown Plaza Hotel\, 1901 University NE\, Albuquerque\, NM\, United States
ATTACH;FMTTYPE=:
END:VEVENT
BEGIN:VEVENT
DTSTART;TZID=America/Denver:20181016T163000
DTEND;TZID=America/Denver:20181016T200000
DTSTAMP:20260420T222001
CREATED:20181008T222232Z
LAST-MODIFIED:20181008T222232Z
UID:2346-1539707400-1539720000@nmmotorsportsreport.com
SUMMARY:Freddy's Car Show & Cruise In
DESCRIPTION:
URL:https://nmmotorsportsreport.com/event/freddys-car-show-cruise-in/
LOCATION:Freddy’s Frozen Custard & Steak Burgers\, 10201 Central NE\, Albuquerque\, New Mexico
ATTACH;FMTTYPE=:
END:VEVENT
BEGIN:VEVENT
DTSTART;TZID=America/Denver:20181014T110000
DTEND;TZID=America/Denver:20181014T180000
DTSTAMP:20260420T222001
CREATED:20181008T211732Z
LAST-MODIFIED:20181008T213929Z
UID:2323-1539514800-1539540000@nmmotorsportsreport.com
SUMMARY:Yearwood Street to Strip
DESCRIPTION:http://www.abqdragway.com/schedule
URL:https://nmmotorsportsreport.com/event/yearwood-street-to-strip/
LOCATION:Albuquerque Dragway\, Albuquerque\, NM\, 87105
ATTACH;FMTTYPE=:
ORGANIZER;CN="ABQ Dragway":MAILTO:abqdragway@comcast.net
END:VEVENT
BEGIN:VEVENT
DTSTART;TZID=America/Denver:20181013T160000
DTEND;TZID=America/Denver:20181013T220000
DTSTAMP:20260420T222001
CREATED:20181008T225328Z
LAST-MODIFIED:20181008T225328Z
UID:2355-1539446400-1539468000@nmmotorsportsreport.com
SUMMARY:Sprint Car Stampede
DESCRIPTION:
URL:https://nmmotorsportsreport.com/event/sprint-car-stampede/
LOCATION:Sandia Speedway\, 100 Speedway Blvd SW\, Albuquerque\, 87121
ATTACH;FMTTYPE=image/jpeg:https://nmmotorsportsreport.com/wp-content/uploads/2018/10/sprintcarstampede.jpg
ORGANIZER;CN="Sandia Speedway":MAILTO:info@racesandia.com
END:VEVENT
BEGIN:VEVENT
DTSTART;TZID=America/Denver:20181013T110000
DTEND;TZID=America/Denver:20181013T143000
DTSTAMP:20260420T222001
CREATED:20181008T221925Z
LAST-MODIFIED:20181008T221925Z
UID:2340-1539428400-1539441000@nmmotorsportsreport.com
SUMMARY:15th Annual Los Leones de Mesilla Lions Club Car Show
DESCRIPTION:
URL:https://nmmotorsportsreport.com/event/15th-annual-los-leones-de-mesilla-lions-club-car-show/
LOCATION:Mesilla Town Hall & J Paul Taylor Visitor Center\, 2231 Avenida de Mesilla\, Mesilla\, NM\, United States
ATTACH;FMTTYPE=:
END:VEVENT
BEGIN:VEVENT
DTSTART;TZID=America/Denver:20180609T080000
DTEND;TZID=America/Denver:20180609T200000
DTSTAMP:20260420T222001
CREATED:20180608T102659Z
LAST-MODIFIED:20180608T102659Z
UID:1784-1528531200-1528574400@nmmotorsportsreport.com
SUMMARY:All Out Call Out
DESCRIPTION:
URL:https://nmmotorsportsreport.com/event/all-out-call-out/
LOCATION:Albuquerque Dragway\, Albuquerque\, NM\, 87105
ATTACH;FMTTYPE=:
END:VEVENT
BEGIN:VEVENT
DTSTART;TZID=UTC:20170506T090000
DTEND;TZID=UTC:20170506T140000
DTSTAMP:20260420T222001
CREATED:20170503T120236Z
LAST-MODIFIED:20170503T120236Z
UID:1124-1494061200-1494079200@nmmotorsportsreport.com
SUMMARY:4th Annual Seis de Mayo Car Show
DESCRIPTION:We are celebrating our 4th Annual Seis de Mayo Car Show this Saturday May 6th.\nIt will start at 9am at the Barley Room with car / vendor registration at 8am.\n\nPlease email me if you want to park as a group.\n\nThis year’s proceeds will benefit the UNM Children’s Hospital & The Children’s Miracle Network. \n\n\n\n\nAs always\, the Show will end promptly at 2pm with door prizes and trophies.\n\nTrophies provided by Mild to Wild and Akasa’s All about Trophies. \n\nThe Barley Room will once again be our host.\n\nPlease support them by enjoying brunch\, lunch and a beverage or two. \n\nThank you’s go out to our sponsors: NM Motorsports Report\, NAPA Auto Parts & The NAPA Auto Care Centers\, Motiva Performance\, Car Crafters\, Yearwood Performance\, ABQ Dragway\, The Unser Racing Museum\, New Mexico Rods & Rides Magazine\, Maverick Auto & Fabrication\, Albuquerque Driveshaft\, Print Express\, Mild to Wild\, Akasa’s All About Trophies and ESPN Radio 101.7FM The TEAM. \n\n\nIf you have any questions\, you can call Robert at 505-250-7118 or David at 505-321-0380.
URL:https://nmmotorsportsreport.com/event/4th-annual-seis-de-mayo-car-show/
LOCATION:The Barley Room\, 5200 Eubank Blvd NE Ste B5\, Albuquerque\, NM\, 87111\, United States
END:VEVENT
BEGIN:VEVENT
DTSTART;TZID=UTC:20161008T090000
DTEND;TZID=UTC:20161008T140000
DTSTAMP:20260420T222001
CREATED:20161003T034243Z
LAST-MODIFIED:20161003T034347Z
UID:921-1475917200-1475935200@nmmotorsportsreport.com
SUMMARY:Bad Ass Cars at the Barley Room
DESCRIPTION:We are celebrating our 4th Annual Brunch\, Balloons & Bad Ass Cars Show Saturday October 8th.\nIt will start at 9am at the Barley Room with car / vendor registration at 8am.\nPlease email me if you want to park as a group.\n\nThis year’s proceeds will benefit the Blue Star Moms and their efforts to support our troops. \nThe Blue Star Moms provided “Care Packages” for soldiers\, reminding them that we appreciate their service. \nYou can contribute by showing your car (or cars)\, buying 50/50 and door prize tickets or a direct contribution. \n\nMusic will be provided by Rockin’ Rob\, a retired veteran\, who received packages from the Blue Star Moms. \nRob is providing his services for free but will take requests by donation. \n\nAs always\, the Show will end promptly at 2pm with door prizes and trophies. \nTrophies provided by Mild to Wild and Akasa’s All about Trophies. \n\nThe Barley Room will once again be our host. \nPlease support them by enjoying brunch\, lunch and a beverage or two. \n\nThank you’s go out to our sponsors: NM Motorsports Report\, NAPA Auto Parts & The NAPA Auto Care Centers\, Motiva Performance\, Car Crafters\, Yearwood Performance\, ABQ Dragway\, The Unser Racing Museum\, New Mexico Rods & Rides Magazine\, Mild to Wild\, Akasa’s All About Trophies and ESPN Radio 101.7FM The TEAM. \n\nIf you have any questions\, you can call Robert at 505-250-7118 or David at 505-321-0380.
URL:https://nmmotorsportsreport.com/event/bad-ass-cars-at-the-barley-room/
LOCATION:The Barley Room\, 5200 Eubank Blvd NE Ste B5\, Albuquerque\, NM\, 87111\, United States
END:VEVENT
END:VCALENDAR